BEGIN:VCALENDAR
VERSION:2.0
PRODID:-//Ready 2 Connect - ECPv5.7.0//NONSGML v1.0//EN
CALSCALE:GREGORIAN
METHOD:PUBLISH
X-WR-CALNAME:Ready 2 Connect
X-ORIGINAL-URL:https://www.r2connect.org
X-WR-CALDESC:Events for Ready 2 Connect
BEGIN:VTIMEZONE
TZID:UTC
BEGIN:STANDARD
TZOFFSETFROM:+0000
TZOFFSETTO:+0000
TZNAME:UTC
DTSTART:20210101T000000
END:STANDARD
END:VTIMEZONE
BEGIN:VEVENT
DTSTART;TZID=UTC:20210114T170000
DTEND;TZID=UTC:20210114T180000
DTSTAMP:20260423T111226
CREATED:20200924T195722Z
LAST-MODIFIED:20210122T193329Z
UID:218-1610643600-1610647200@www.r2connect.org
SUMMARY:New Participant Orientation
DESCRIPTION:*** CALL TO REGISTER (912) 826-5300 ext. 116 ***\n\nFinding a job is a FULL-TIME JOB!!! If you are UNEMPLOYED or UNDEREMPLOYED and are LOOKING FOR WORK\, let us help you with the process.\n\nDon’t have a resume?\nNot a problem!! We can help!\nNeed a GED to find employment?\nWe can help with that too!!\nDon’t have enough experience to find a job?\nWe’ve got you covered!\nNot ACEing any of your interviews?\nWe can give you the tools you need!\nCome see how WE CAN HELP YOU!!\nWhy wait??\n\n*** CALL TO REGISTER (912) 826-5300 ext. 116 ***
URL:https://www.r2connect.org/event/new-participant-orientation/
LOCATION:Ready2CONNECT\, 711 Zitterouer Dr\, Rincon\, GA\, 31326\, United States
CATEGORIES:Orientation
ATTACH;FMTTYPE=image/jpeg:https://www.r2connect.org/wp-content/uploads/2020/09/NewParticipant-Orientation.jpg
ORGANIZER;CN="Ready2CONNECT":MAILTO:connectme@r2connect.org
END:VEVENT
END:VCALENDAR